BEGIN:VCALENDAR
VERSION:2.0
PRODID:-//My Calendar//http://www.joedolson.com//v3.1.18//EN
METHOD:PUBLISH
CALSCALE:GREGORIAN
X-WR-CALNAME:대한민국휠체어합창단
X-PUBLISHED-TTL:PT24H
REFRESH-INTERVAL;VALUE=DURATION:PT24H
X-WR-CALDESC:Events from 대한민국휠체어합창단
BEGIN:VEVENT
UID:4-4
LOCATION:
SUMMARY:2020 유럽 연주여행
DTSTAMP:20200627T000000
ORGANIZER;CN=관리자:MAILTO:geranimo232@gmail.com
DTSTART;TZID=Asia/Seoul:20200627T000000
DTEND;TZID=Asia/Seoul:20200706T000000
URL;VALUE=URI:http://koreawheelchairquire.com/my-calendar/
DESCRIPTION:체코-슬로바키아-헝가리 등을 거쳐 자그레브에서 출발하여 귀국하는 여정입니다~^^ 
CATEGORIES:General
X-FUNAMBOL-ALLDAY: 1
X-MICROSOFT-CDO-ALLDAYEVENT: TRUE

END:VEVENT
BEGIN:VEVENT
UID:3-3
LOCATION:
SUMMARY:한-체코 수교 30주년 기념 교민초청연주회
DTSTAMP:20200628T180000
ORGANIZER;CN=관리자:MAILTO:geranimo232@gmail.com
DTSTART;TZID=Asia/Seoul:20200628T180000
DTEND;TZID=Asia/Seoul:20200628T190000
URL;VALUE=URI:http://koreawheelchairquire.com/my-calendar/
DESCRIPTION:체코 국립 음악박물관 
CATEGORIES:General
END:VEVENT
BEGIN:VEVENT
UID:2-2
LOCATION:
SUMMARY:제5회 정기연주회
DTSTAMP:20200526T193000
ORGANIZER;CN=관리자:MAILTO:geranimo232@gmail.com
DTSTART;TZID=Asia/Seoul:20200526T193000
DTEND;TZID=Asia/Seoul:20200526T213000
URL;VALUE=URI:http://koreawheelchairquire.com/my-calendar/
DESCRIPTION: 
CATEGORIES:General
END:VEVENT
BEGIN:VEVENT
UID:1-1
LOCATION:
SUMMARY:홈피수정
DTSTAMP:20200212T140000
ORGANIZER;CN=관리자:MAILTO:geranimo232@gmail.com
DTSTART;TZID=Asia/Seoul:20200212T140000
DTEND;TZID=Asia/Seoul:20200214T151500
URL;VALUE=URI:http://koreawheelchairquire.com/my-calendar/
DESCRIPTION:으뜸 
CATEGORIES:General
END:VEVENT
END:VCALENDAR